BEGIN:VCALENDAR
VERSION:2.0
CALSCALE:GREGORIAN
PRODID:adamgibbons/ics
METHOD:PUBLISH
X-PUBLISHED-TTL:PT1H
BEGIN:VEVENT
UID:1117@berlin.askapunk.de
SUMMARY:S.U.G.A.R. + The Gee Strings + The Inserts
DTSTAMP:20260424T133331Z
DTSTART:20260509T170000Z
URL:https://berlin.askapunk.de/event/sugar-the-gee-strings-the-inserts
LOCATION:Neue Zukunft - Alt-Stralau 68\, 10245 Berlin
STATUS:CONFIRMED
CATEGORIES:garage punk,punk,punk rock
END:VEVENT
END:VCALENDAR
